BEGIN:VCALENDAR
VERSION:2.0
PRODID:-//South Fork Chamber of Commerce - ECPv6.15.20//NONSGML v1.0//EN
CALSCALE:GREGORIAN
METHOD:PUBLISH
X-ORIGINAL-URL:https://southforkchamber.com
X-WR-CALDESC:Events for South Fork Chamber of Commerce
REFRESH-INTERVAL;VALUE=DURATION:PT1H
X-Robots-Tag:noindex
X-PUBLISHED-TTL:PT1H
BEGIN:VTIMEZONE
TZID:America/Denver
BEGIN:DAYLIGHT
TZOFFSETFROM:-0700
TZOFFSETTO:-0600
TZNAME:MDT
DTSTART:20240310T090000
END:DAYLIGHT
BEGIN:STANDARD
TZOFFSETFROM:-0600
TZOFFSETTO:-0700
TZNAME:MST
DTSTART:20241103T080000
END:STANDARD
BEGIN:DAYLIGHT
TZOFFSETFROM:-0700
TZOFFSETTO:-0600
TZNAME:MDT
DTSTART:20250309T090000
END:DAYLIGHT
BEGIN:STANDARD
TZOFFSETFROM:-0600
TZOFFSETTO:-0700
TZNAME:MST
DTSTART:20251102T080000
END:STANDARD
BEGIN:DAYLIGHT
TZOFFSETFROM:-0700
TZOFFSETTO:-0600
TZNAME:MDT
DTSTART:20260308T090000
END:DAYLIGHT
BEGIN:STANDARD
TZOFFSETFROM:-0600
TZOFFSETTO:-0700
TZNAME:MST
DTSTART:20261101T080000
END:STANDARD
END:VTIMEZONE
BEGIN:VEVENT
DTSTART;TZID=America/Denver:20250624T180000
DTEND;TZID=America/Denver:20250624T200000
DTSTAMP:20260425T044318
CREATED:20230512T002635Z
LAST-MODIFIED:20230512T002635Z
UID:10001462-1750788000-1750795200@southforkchamber.com
SUMMARY:Town of South Fork Board of Trustee Meeting
DESCRIPTION:Tuesday\, May 23 from 6 – 8pm\, at the South Fork Community Building.
URL:https://southforkchamber.com/event/town-of-south-fork-board-of-trustee-meeting/2025-06-24/
LOCATION:CO
CATEGORIES:South Fork Events, General
ATTACH;FMTTYPE=image/jpeg:https://southforkchamber.com/wp-content/uploads/309282257_5906379399373277_1976281389897040926_n.jpg
END:VEVENT
END:VCALENDAR