BEGIN:VCALENDAR
VERSION:2.0
PRODID:-//South Fork Chamber of Commerce - ECPv6.15.20//NONSGML v1.0//EN
CALSCALE:GREGORIAN
METHOD:PUBLISH
X-ORIGINAL-URL:https://southforkchamber.com
X-WR-CALDESC:Events for South Fork Chamber of Commerce
REFRESH-INTERVAL;VALUE=DURATION:PT1H
X-Robots-Tag:noindex
X-PUBLISHED-TTL:PT1H
BEGIN:VTIMEZONE
TZID:America/Denver
BEGIN:DAYLIGHT
TZOFFSETFROM:-0700
TZOFFSETTO:-0600
TZNAME:MDT
DTSTART:20220313T090000
END:DAYLIGHT
BEGIN:STANDARD
TZOFFSETFROM:-0600
TZOFFSETTO:-0700
TZNAME:MST
DTSTART:20221106T080000
END:STANDARD
BEGIN:DAYLIGHT
TZOFFSETFROM:-0700
TZOFFSETTO:-0600
TZNAME:MDT
DTSTART:20230312T090000
END:DAYLIGHT
BEGIN:STANDARD
TZOFFSETFROM:-0600
TZOFFSETTO:-0700
TZNAME:MST
DTSTART:20231105T080000
END:STANDARD
BEGIN:DAYLIGHT
TZOFFSETFROM:-0700
TZOFFSETTO:-0600
TZNAME:MDT
DTSTART:20240310T090000
END:DAYLIGHT
BEGIN:STANDARD
TZOFFSETFROM:-0600
TZOFFSETTO:-0700
TZNAME:MST
DTSTART:20241103T080000
END:STANDARD
BEGIN:DAYLIGHT
TZOFFSETFROM:-0700
TZOFFSETTO:-0600
TZNAME:MDT
DTSTART:20250309T090000
END:DAYLIGHT
BEGIN:STANDARD
TZOFFSETFROM:-0600
TZOFFSETTO:-0700
TZNAME:MST
DTSTART:20251102T080000
END:STANDARD
BEGIN:DAYLIGHT
TZOFFSETFROM:-0700
TZOFFSETTO:-0600
TZNAME:MDT
DTSTART:20260308T090000
END:DAYLIGHT
BEGIN:STANDARD
TZOFFSETFROM:-0600
TZOFFSETTO:-0700
TZNAME:MST
DTSTART:20261101T080000
END:STANDARD
BEGIN:DAYLIGHT
TZOFFSETFROM:-0700
TZOFFSETTO:-0600
TZNAME:MDT
DTSTART:20270314T090000
END:DAYLIGHT
BEGIN:STANDARD
TZOFFSETFROM:-0600
TZOFFSETTO:-0700
TZNAME:MST
DTSTART:20271107T080000
END:STANDARD
END:VTIMEZONE
BEGIN:VEVENT
DTSTART;TZID=America/Denver:20260324T180000
DTEND;TZID=America/Denver:20260324T200000
DTSTAMP:20260424T153109
CREATED:20230512T002635Z
LAST-MODIFIED:20230512T002635Z
UID:10001471-1774375200-1774382400@southforkchamber.com
SUMMARY:Town of South Fork Board of Trustee Meeting
DESCRIPTION:Tuesday\, May 23 from 6 – 8pm\, at the South Fork Community Building.
URL:https://southforkchamber.com/event/town-of-south-fork-board-of-trustee-meeting/2026-03-24/
LOCATION:CO
CATEGORIES:South Fork Events, General
ATTACH;FMTTYPE=image/jpeg:https://southforkchamber.com/wp-content/uploads/309282257_5906379399373277_1976281389897040926_n.jpg
END:VEVENT
BEGIN:VEVENT
DTSTART;TZID=America/Denver:20260224T180000
DTEND;TZID=America/Denver:20260224T200000
DTSTAMP:20260424T153109
CREATED:20230512T002635Z
LAST-MODIFIED:20230512T002635Z
UID:10001470-1771956000-1771963200@southforkchamber.com
SUMMARY:Town of South Fork Board of Trustee Meeting
DESCRIPTION:Tuesday\, May 23 from 6 – 8pm\, at the South Fork Community Building.
URL:https://southforkchamber.com/event/town-of-south-fork-board-of-trustee-meeting/2026-02-24/
LOCATION:CO
CATEGORIES:South Fork Events, General
ATTACH;FMTTYPE=image/jpeg:https://southforkchamber.com/wp-content/uploads/309282257_5906379399373277_1976281389897040926_n.jpg
END:VEVENT
BEGIN:VEVENT
DTSTART;TZID=America/Denver:20260127T180000
DTEND;TZID=America/Denver:20260127T200000
DTSTAMP:20260424T153109
CREATED:20230512T002635Z
LAST-MODIFIED:20230512T002635Z
UID:10001469-1769536800-1769544000@southforkchamber.com
SUMMARY:Town of South Fork Board of Trustee Meeting
DESCRIPTION:Tuesday\, May 23 from 6 – 8pm\, at the South Fork Community Building.
URL:https://southforkchamber.com/event/town-of-south-fork-board-of-trustee-meeting/2026-01-27/
LOCATION:CO
CATEGORIES:South Fork Events, General
ATTACH;FMTTYPE=image/jpeg:https://southforkchamber.com/wp-content/uploads/309282257_5906379399373277_1976281389897040926_n.jpg
END:VEVENT
BEGIN:VEVENT
DTSTART;TZID=America/Denver:20251223T180000
DTEND;TZID=America/Denver:20251223T200000
DTSTAMP:20260424T153109
CREATED:20230512T002635Z
LAST-MODIFIED:20230512T002635Z
UID:10001468-1766512800-1766520000@southforkchamber.com
SUMMARY:Town of South Fork Board of Trustee Meeting
DESCRIPTION:Tuesday\, May 23 from 6 – 8pm\, at the South Fork Community Building.
URL:https://southforkchamber.com/event/town-of-south-fork-board-of-trustee-meeting/2025-12-23/
LOCATION:CO
CATEGORIES:South Fork Events, General
ATTACH;FMTTYPE=image/jpeg:https://southforkchamber.com/wp-content/uploads/309282257_5906379399373277_1976281389897040926_n.jpg
END:VEVENT
BEGIN:VEVENT
DTSTART;TZID=America/Denver:20251125T180000
DTEND;TZID=America/Denver:20251125T200000
DTSTAMP:20260424T153109
CREATED:20230512T002635Z
LAST-MODIFIED:20230512T002635Z
UID:10001467-1764093600-1764100800@southforkchamber.com
SUMMARY:Town of South Fork Board of Trustee Meeting
DESCRIPTION:Tuesday\, May 23 from 6 – 8pm\, at the South Fork Community Building.
URL:https://southforkchamber.com/event/town-of-south-fork-board-of-trustee-meeting/2025-11-25/
LOCATION:CO
CATEGORIES:South Fork Events, General
ATTACH;FMTTYPE=image/jpeg:https://southforkchamber.com/wp-content/uploads/309282257_5906379399373277_1976281389897040926_n.jpg
END:VEVENT
BEGIN:VEVENT
DTSTART;TZID=America/Denver:20251028T180000
DTEND;TZID=America/Denver:20251028T200000
DTSTAMP:20260424T153109
CREATED:20230512T002635Z
LAST-MODIFIED:20230512T002635Z
UID:10001466-1761674400-1761681600@southforkchamber.com
SUMMARY:Town of South Fork Board of Trustee Meeting
DESCRIPTION:Tuesday\, May 23 from 6 – 8pm\, at the South Fork Community Building.
URL:https://southforkchamber.com/event/town-of-south-fork-board-of-trustee-meeting/2025-10-28/
LOCATION:CO
CATEGORIES:South Fork Events, General
ATTACH;FMTTYPE=image/jpeg:https://southforkchamber.com/wp-content/uploads/309282257_5906379399373277_1976281389897040926_n.jpg
END:VEVENT
BEGIN:VEVENT
DTSTART;TZID=America/Denver:20250923T180000
DTEND;TZID=America/Denver:20250923T200000
DTSTAMP:20260424T153109
CREATED:20230512T002635Z
LAST-MODIFIED:20230512T002635Z
UID:10001465-1758650400-1758657600@southforkchamber.com
SUMMARY:Town of South Fork Board of Trustee Meeting
DESCRIPTION:Tuesday\, May 23 from 6 – 8pm\, at the South Fork Community Building.
URL:https://southforkchamber.com/event/town-of-south-fork-board-of-trustee-meeting/2025-09-23/
LOCATION:CO
CATEGORIES:South Fork Events, General
ATTACH;FMTTYPE=image/jpeg:https://southforkchamber.com/wp-content/uploads/309282257_5906379399373277_1976281389897040926_n.jpg
END:VEVENT
BEGIN:VEVENT
DTSTART;TZID=America/Denver:20250826T180000
DTEND;TZID=America/Denver:20250826T200000
DTSTAMP:20260424T153109
CREATED:20230512T002635Z
LAST-MODIFIED:20230512T002635Z
UID:10001464-1756231200-1756238400@southforkchamber.com
SUMMARY:Town of South Fork Board of Trustee Meeting
DESCRIPTION:Tuesday\, May 23 from 6 – 8pm\, at the South Fork Community Building.
URL:https://southforkchamber.com/event/town-of-south-fork-board-of-trustee-meeting/2025-08-26/
LOCATION:CO
CATEGORIES:South Fork Events, General
ATTACH;FMTTYPE=image/jpeg:https://southforkchamber.com/wp-content/uploads/309282257_5906379399373277_1976281389897040926_n.jpg
END:VEVENT
BEGIN:VEVENT
DTSTART;TZID=America/Denver:20250722T180000
DTEND;TZID=America/Denver:20250722T200000
DTSTAMP:20260424T153109
CREATED:20230512T002635Z
LAST-MODIFIED:20230512T002635Z
UID:10001463-1753207200-1753214400@southforkchamber.com
SUMMARY:Town of South Fork Board of Trustee Meeting
DESCRIPTION:Tuesday\, May 23 from 6 – 8pm\, at the South Fork Community Building.
URL:https://southforkchamber.com/event/town-of-south-fork-board-of-trustee-meeting/2025-07-22/
LOCATION:CO
CATEGORIES:South Fork Events, General
ATTACH;FMTTYPE=image/jpeg:https://southforkchamber.com/wp-content/uploads/309282257_5906379399373277_1976281389897040926_n.jpg
END:VEVENT
BEGIN:VEVENT
DTSTART;TZID=America/Denver:20250624T180000
DTEND;TZID=America/Denver:20250624T200000
DTSTAMP:20260424T153109
CREATED:20230512T002635Z
LAST-MODIFIED:20230512T002635Z
UID:10001462-1750788000-1750795200@southforkchamber.com
SUMMARY:Town of South Fork Board of Trustee Meeting
DESCRIPTION:Tuesday\, May 23 from 6 – 8pm\, at the South Fork Community Building.
URL:https://southforkchamber.com/event/town-of-south-fork-board-of-trustee-meeting/2025-06-24/
LOCATION:CO
CATEGORIES:South Fork Events, General
ATTACH;FMTTYPE=image/jpeg:https://southforkchamber.com/wp-content/uploads/309282257_5906379399373277_1976281389897040926_n.jpg
END:VEVENT
BEGIN:VEVENT
DTSTART;TZID=America/Denver:20250527T180000
DTEND;TZID=America/Denver:20250527T200000
DTSTAMP:20260424T153109
CREATED:20230512T002635Z
LAST-MODIFIED:20230512T002635Z
UID:10001461-1748368800-1748376000@southforkchamber.com
SUMMARY:Town of South Fork Board of Trustee Meeting
DESCRIPTION:Tuesday\, May 23 from 6 – 8pm\, at the South Fork Community Building.
URL:https://southforkchamber.com/event/town-of-south-fork-board-of-trustee-meeting/2025-05-27/
LOCATION:CO
CATEGORIES:South Fork Events, General
ATTACH;FMTTYPE=image/jpeg:https://southforkchamber.com/wp-content/uploads/309282257_5906379399373277_1976281389897040926_n.jpg
END:VEVENT
BEGIN:VEVENT
DTSTART;TZID=America/Denver:20250422T180000
DTEND;TZID=America/Denver:20250422T200000
DTSTAMP:20260424T153109
CREATED:20230512T002635Z
LAST-MODIFIED:20230512T002635Z
UID:10001460-1745344800-1745352000@southforkchamber.com
SUMMARY:Town of South Fork Board of Trustee Meeting
DESCRIPTION:Tuesday\, May 23 from 6 – 8pm\, at the South Fork Community Building.
URL:https://southforkchamber.com/event/town-of-south-fork-board-of-trustee-meeting/2025-04-22/
LOCATION:CO
CATEGORIES:South Fork Events, General
ATTACH;FMTTYPE=image/jpeg:https://southforkchamber.com/wp-content/uploads/309282257_5906379399373277_1976281389897040926_n.jpg
END:VEVENT
BEGIN:VEVENT
DTSTART;TZID=America/Denver:20250325T180000
DTEND;TZID=America/Denver:20250325T200000
DTSTAMP:20260424T153109
CREATED:20230512T002635Z
LAST-MODIFIED:20230512T002635Z
UID:10001459-1742925600-1742932800@southforkchamber.com
SUMMARY:Town of South Fork Board of Trustee Meeting
DESCRIPTION:Tuesday\, May 23 from 6 – 8pm\, at the South Fork Community Building.
URL:https://southforkchamber.com/event/town-of-south-fork-board-of-trustee-meeting/2025-03-25/
LOCATION:CO
CATEGORIES:South Fork Events, General
ATTACH;FMTTYPE=image/jpeg:https://southforkchamber.com/wp-content/uploads/309282257_5906379399373277_1976281389897040926_n.jpg
END:VEVENT
BEGIN:VEVENT
DTSTART;TZID=America/Denver:20250225T180000
DTEND;TZID=America/Denver:20250225T200000
DTSTAMP:20260424T153109
CREATED:20230512T002635Z
LAST-MODIFIED:20230512T002635Z
UID:10001458-1740506400-1740513600@southforkchamber.com
SUMMARY:Town of South Fork Board of Trustee Meeting
DESCRIPTION:Tuesday\, May 23 from 6 – 8pm\, at the South Fork Community Building.
URL:https://southforkchamber.com/event/town-of-south-fork-board-of-trustee-meeting/2025-02-25/
LOCATION:CO
CATEGORIES:South Fork Events, General
ATTACH;FMTTYPE=image/jpeg:https://southforkchamber.com/wp-content/uploads/309282257_5906379399373277_1976281389897040926_n.jpg
END:VEVENT
BEGIN:VEVENT
DTSTART;TZID=America/Denver:20250128T180000
DTEND;TZID=America/Denver:20250128T200000
DTSTAMP:20260424T153109
CREATED:20230512T002635Z
LAST-MODIFIED:20230512T002635Z
UID:10001457-1738087200-1738094400@southforkchamber.com
SUMMARY:Town of South Fork Board of Trustee Meeting
DESCRIPTION:Tuesday\, May 23 from 6 – 8pm\, at the South Fork Community Building.
URL:https://southforkchamber.com/event/town-of-south-fork-board-of-trustee-meeting/2025-01-28/
LOCATION:CO
CATEGORIES:South Fork Events, General
ATTACH;FMTTYPE=image/jpeg:https://southforkchamber.com/wp-content/uploads/309282257_5906379399373277_1976281389897040926_n.jpg
END:VEVENT
BEGIN:VEVENT
DTSTART;TZID=America/Denver:20241224T180000
DTEND;TZID=America/Denver:20241224T200000
DTSTAMP:20260424T153109
CREATED:20230512T002635Z
LAST-MODIFIED:20230512T002635Z
UID:10001456-1735063200-1735070400@southforkchamber.com
SUMMARY:Town of South Fork Board of Trustee Meeting
DESCRIPTION:Tuesday\, May 23 from 6 – 8pm\, at the South Fork Community Building.
URL:https://southforkchamber.com/event/town-of-south-fork-board-of-trustee-meeting/2024-12-24/
LOCATION:CO
CATEGORIES:South Fork Events, General
ATTACH;FMTTYPE=image/jpeg:https://southforkchamber.com/wp-content/uploads/309282257_5906379399373277_1976281389897040926_n.jpg
END:VEVENT
BEGIN:VEVENT
DTSTART;TZID=America/Denver:20241126T180000
DTEND;TZID=America/Denver:20241126T200000
DTSTAMP:20260424T153109
CREATED:20230512T002635Z
LAST-MODIFIED:20230512T002635Z
UID:10001455-1732644000-1732651200@southforkchamber.com
SUMMARY:Town of South Fork Board of Trustee Meeting
DESCRIPTION:Tuesday\, May 23 from 6 – 8pm\, at the South Fork Community Building.
URL:https://southforkchamber.com/event/town-of-south-fork-board-of-trustee-meeting/2024-11-26/
LOCATION:CO
CATEGORIES:South Fork Events, General
ATTACH;FMTTYPE=image/jpeg:https://southforkchamber.com/wp-content/uploads/309282257_5906379399373277_1976281389897040926_n.jpg
END:VEVENT
BEGIN:VEVENT
DTSTART;TZID=America/Denver:20241022T180000
DTEND;TZID=America/Denver:20241022T200000
DTSTAMP:20260424T153109
CREATED:20230512T002635Z
LAST-MODIFIED:20230512T002635Z
UID:10001454-1729620000-1729627200@southforkchamber.com
SUMMARY:Town of South Fork Board of Trustee Meeting
DESCRIPTION:Tuesday\, May 23 from 6 – 8pm\, at the South Fork Community Building.
URL:https://southforkchamber.com/event/town-of-south-fork-board-of-trustee-meeting/2024-10-22/
LOCATION:CO
CATEGORIES:South Fork Events, General
ATTACH;FMTTYPE=image/jpeg:https://southforkchamber.com/wp-content/uploads/309282257_5906379399373277_1976281389897040926_n.jpg
END:VEVENT
BEGIN:VEVENT
DTSTART;TZID=America/Denver:20240924T180000
DTEND;TZID=America/Denver:20240924T200000
DTSTAMP:20260424T153109
CREATED:20230512T002635Z
LAST-MODIFIED:20230512T002635Z
UID:10001453-1727200800-1727208000@southforkchamber.com
SUMMARY:Town of South Fork Board of Trustee Meeting
DESCRIPTION:Tuesday\, May 23 from 6 – 8pm\, at the South Fork Community Building.
URL:https://southforkchamber.com/event/town-of-south-fork-board-of-trustee-meeting/2024-09-24/
LOCATION:CO
CATEGORIES:South Fork Events, General
ATTACH;FMTTYPE=image/jpeg:https://southforkchamber.com/wp-content/uploads/309282257_5906379399373277_1976281389897040926_n.jpg
END:VEVENT
BEGIN:VEVENT
DTSTART;TZID=America/Denver:20240827T180000
DTEND;TZID=America/Denver:20240827T200000
DTSTAMP:20260424T153109
CREATED:20230512T002635Z
LAST-MODIFIED:20230512T002635Z
UID:10001452-1724781600-1724788800@southforkchamber.com
SUMMARY:Town of South Fork Board of Trustee Meeting
DESCRIPTION:Tuesday\, May 23 from 6 – 8pm\, at the South Fork Community Building.
URL:https://southforkchamber.com/event/town-of-south-fork-board-of-trustee-meeting/2024-08-27/
LOCATION:CO
CATEGORIES:South Fork Events, General
ATTACH;FMTTYPE=image/jpeg:https://southforkchamber.com/wp-content/uploads/309282257_5906379399373277_1976281389897040926_n.jpg
END:VEVENT
BEGIN:VEVENT
DTSTART;TZID=America/Denver:20240723T180000
DTEND;TZID=America/Denver:20240723T200000
DTSTAMP:20260424T153109
CREATED:20230512T002635Z
LAST-MODIFIED:20230512T002635Z
UID:10001451-1721757600-1721764800@southforkchamber.com
SUMMARY:Town of South Fork Board of Trustee Meeting
DESCRIPTION:Tuesday\, May 23 from 6 – 8pm\, at the South Fork Community Building.
URL:https://southforkchamber.com/event/town-of-south-fork-board-of-trustee-meeting/2024-07-23/
LOCATION:CO
CATEGORIES:South Fork Events, General
ATTACH;FMTTYPE=image/jpeg:https://southforkchamber.com/wp-content/uploads/309282257_5906379399373277_1976281389897040926_n.jpg
END:VEVENT
BEGIN:VEVENT
DTSTART;TZID=America/Denver:20240625T180000
DTEND;TZID=America/Denver:20240625T200000
DTSTAMP:20260424T153109
CREATED:20230512T002635Z
LAST-MODIFIED:20230512T002635Z
UID:10001450-1719338400-1719345600@southforkchamber.com
SUMMARY:Town of South Fork Board of Trustee Meeting
DESCRIPTION:Tuesday\, May 23 from 6 – 8pm\, at the South Fork Community Building.
URL:https://southforkchamber.com/event/town-of-south-fork-board-of-trustee-meeting/2024-06-25/
LOCATION:CO
CATEGORIES:South Fork Events, General
ATTACH;FMTTYPE=image/jpeg:https://southforkchamber.com/wp-content/uploads/309282257_5906379399373277_1976281389897040926_n.jpg
END:VEVENT
BEGIN:VEVENT
DTSTART;TZID=America/Denver:20240528T180000
DTEND;TZID=America/Denver:20240528T200000
DTSTAMP:20260424T153109
CREATED:20230512T002635Z
LAST-MODIFIED:20230512T002635Z
UID:10001449-1716919200-1716926400@southforkchamber.com
SUMMARY:Town of South Fork Board of Trustee Meeting
DESCRIPTION:Tuesday\, May 23 from 6 – 8pm\, at the South Fork Community Building.
URL:https://southforkchamber.com/event/town-of-south-fork-board-of-trustee-meeting/2024-05-28/
LOCATION:CO
CATEGORIES:South Fork Events, General
ATTACH;FMTTYPE=image/jpeg:https://southforkchamber.com/wp-content/uploads/309282257_5906379399373277_1976281389897040926_n.jpg
END:VEVENT
BEGIN:VEVENT
DTSTART;TZID=America/Denver:20240423T180000
DTEND;TZID=America/Denver:20240423T200000
DTSTAMP:20260424T153109
CREATED:20230512T002635Z
LAST-MODIFIED:20230512T002635Z
UID:10001448-1713895200-1713902400@southforkchamber.com
SUMMARY:Town of South Fork Board of Trustee Meeting
DESCRIPTION:Tuesday\, May 23 from 6 – 8pm\, at the South Fork Community Building.
URL:https://southforkchamber.com/event/town-of-south-fork-board-of-trustee-meeting/2024-04-23/
LOCATION:CO
CATEGORIES:South Fork Events, General
ATTACH;FMTTYPE=image/jpeg:https://southforkchamber.com/wp-content/uploads/309282257_5906379399373277_1976281389897040926_n.jpg
END:VEVENT
BEGIN:VEVENT
DTSTART;TZID=America/Denver:20240326T180000
DTEND;TZID=America/Denver:20240326T200000
DTSTAMP:20260424T153109
CREATED:20230512T002635Z
LAST-MODIFIED:20230512T002635Z
UID:10001447-1711476000-1711483200@southforkchamber.com
SUMMARY:Town of South Fork Board of Trustee Meeting
DESCRIPTION:Tuesday\, May 23 from 6 – 8pm\, at the South Fork Community Building.
URL:https://southforkchamber.com/event/town-of-south-fork-board-of-trustee-meeting/2024-03-26/
LOCATION:CO
CATEGORIES:South Fork Events, General
ATTACH;FMTTYPE=image/jpeg:https://southforkchamber.com/wp-content/uploads/309282257_5906379399373277_1976281389897040926_n.jpg
END:VEVENT
BEGIN:VEVENT
DTSTART;TZID=America/Denver:20240227T180000
DTEND;TZID=America/Denver:20240227T200000
DTSTAMP:20260424T153109
CREATED:20230512T002635Z
LAST-MODIFIED:20230512T002635Z
UID:10001446-1709056800-1709064000@southforkchamber.com
SUMMARY:Town of South Fork Board of Trustee Meeting
DESCRIPTION:Tuesday\, May 23 from 6 – 8pm\, at the South Fork Community Building.
URL:https://southforkchamber.com/event/town-of-south-fork-board-of-trustee-meeting/2024-02-27/
LOCATION:CO
CATEGORIES:South Fork Events, General
ATTACH;FMTTYPE=image/jpeg:https://southforkchamber.com/wp-content/uploads/309282257_5906379399373277_1976281389897040926_n.jpg
END:VEVENT
BEGIN:VEVENT
DTSTART;TZID=America/Denver:20240123T180000
DTEND;TZID=America/Denver:20240123T200000
DTSTAMP:20260424T153109
CREATED:20230512T002635Z
LAST-MODIFIED:20230512T002635Z
UID:10001445-1706032800-1706040000@southforkchamber.com
SUMMARY:Town of South Fork Board of Trustee Meeting
DESCRIPTION:Tuesday\, May 23 from 6 – 8pm\, at the South Fork Community Building.
URL:https://southforkchamber.com/event/town-of-south-fork-board-of-trustee-meeting/2024-01-23/
LOCATION:CO
CATEGORIES:South Fork Events, General
ATTACH;FMTTYPE=image/jpeg:https://southforkchamber.com/wp-content/uploads/309282257_5906379399373277_1976281389897040926_n.jpg
END:VEVENT
BEGIN:VEVENT
DTSTART;TZID=America/Denver:20231226T180000
DTEND;TZID=America/Denver:20231226T200000
DTSTAMP:20260424T153109
CREATED:20230512T002635Z
LAST-MODIFIED:20230512T002635Z
UID:10001444-1703613600-1703620800@southforkchamber.com
SUMMARY:Town of South Fork Board of Trustee Meeting
DESCRIPTION:Tuesday\, May 23 from 6 – 8pm\, at the South Fork Community Building.
URL:https://southforkchamber.com/event/town-of-south-fork-board-of-trustee-meeting/2023-12-26/
LOCATION:CO
CATEGORIES:South Fork Events, General
ATTACH;FMTTYPE=image/jpeg:https://southforkchamber.com/wp-content/uploads/309282257_5906379399373277_1976281389897040926_n.jpg
END:VEVENT
BEGIN:VEVENT
DTSTART;TZID=America/Denver:20231128T180000
DTEND;TZID=America/Denver:20231128T200000
DTSTAMP:20260424T153109
CREATED:20230512T002635Z
LAST-MODIFIED:20230512T002635Z
UID:10001443-1701194400-1701201600@southforkchamber.com
SUMMARY:Town of South Fork Board of Trustee Meeting
DESCRIPTION:Tuesday\, May 23 from 6 – 8pm\, at the South Fork Community Building.
URL:https://southforkchamber.com/event/town-of-south-fork-board-of-trustee-meeting/2023-11-28/
LOCATION:CO
CATEGORIES:South Fork Events, General
ATTACH;FMTTYPE=image/jpeg:https://southforkchamber.com/wp-content/uploads/309282257_5906379399373277_1976281389897040926_n.jpg
END:VEVENT
BEGIN:VEVENT
DTSTART;TZID=America/Denver:20231024T180000
DTEND;TZID=America/Denver:20231024T200000
DTSTAMP:20260424T153109
CREATED:20230512T002635Z
LAST-MODIFIED:20230512T002635Z
UID:10001442-1698170400-1698177600@southforkchamber.com
SUMMARY:Town of South Fork Board of Trustee Meeting
DESCRIPTION:Tuesday\, May 23 from 6 – 8pm\, at the South Fork Community Building.
URL:https://southforkchamber.com/event/town-of-south-fork-board-of-trustee-meeting/2023-10-24/
LOCATION:CO
CATEGORIES:South Fork Events, General
ATTACH;FMTTYPE=image/jpeg:https://southforkchamber.com/wp-content/uploads/309282257_5906379399373277_1976281389897040926_n.jpg
END:VEVENT
END:VCALENDAR