BEGIN:VCALENDAR
VERSION:2.0
PRODID:-//South Fork Chamber of Commerce - ECPv6.15.20//NONSGML v1.0//EN
CALSCALE:GREGORIAN
METHOD:PUBLISH
X-WR-CALNAME:South Fork Chamber of Commerce
X-ORIGINAL-URL:https://southforkchamber.com
X-WR-CALDESC:Events for South Fork Chamber of Commerce
REFRESH-INTERVAL;VALUE=DURATION:PT1H
X-Robots-Tag:noindex
X-PUBLISHED-TTL:PT1H
BEGIN:VTIMEZONE
TZID:America/Denver
BEGIN:DAYLIGHT
TZOFFSETFROM:-0700
TZOFFSETTO:-0600
TZNAME:MDT
DTSTART:20250309T090000
END:DAYLIGHT
BEGIN:STANDARD
TZOFFSETFROM:-0600
TZOFFSETTO:-0700
TZNAME:MST
DTSTART:20251102T080000
END:STANDARD
BEGIN:DAYLIGHT
TZOFFSETFROM:-0700
TZOFFSETTO:-0600
TZNAME:MDT
DTSTART:20260308T090000
END:DAYLIGHT
BEGIN:STANDARD
TZOFFSETFROM:-0600
TZOFFSETTO:-0700
TZNAME:MST
DTSTART:20261101T080000
END:STANDARD
BEGIN:DAYLIGHT
TZOFFSETFROM:-0700
TZOFFSETTO:-0600
TZNAME:MDT
DTSTART:20270314T090000
END:DAYLIGHT
BEGIN:STANDARD
TZOFFSETFROM:-0600
TZOFFSETTO:-0700
TZNAME:MST
DTSTART:20271107T080000
END:STANDARD
BEGIN:DAYLIGHT
TZOFFSETFROM:-0700
TZOFFSETTO:-0600
TZNAME:MDT
DTSTART:20280312T090000
END:DAYLIGHT
BEGIN:STANDARD
TZOFFSETFROM:-0600
TZOFFSETTO:-0700
TZNAME:MST
DTSTART:20281105T080000
END:STANDARD
BEGIN:DAYLIGHT
TZOFFSETFROM:-0700
TZOFFSETTO:-0600
TZNAME:MDT
DTSTART:20290311T090000
END:DAYLIGHT
BEGIN:STANDARD
TZOFFSETFROM:-0600
TZOFFSETTO:-0700
TZNAME:MST
DTSTART:20291104T080000
END:STANDARD
END:VTIMEZONE
BEGIN:VEVENT
DTSTART;TZID=America/Denver:20260428T180000
DTEND;TZID=America/Denver:20260428T200000
DTSTAMP:20260424T122107
CREATED:20230512T002635Z
LAST-MODIFIED:20230512T002635Z
UID:10001472-1777399200-1777406400@southforkchamber.com
SUMMARY:Town of South Fork Board of Trustee Meeting
DESCRIPTION:Tuesday\, May 23 from 6 – 8pm\, at the South Fork Community Building.
URL:https://southforkchamber.com/event/town-of-south-fork-board-of-trustee-meeting/2026-04-28/
CATEGORIES:South Fork Events, General
ATTACH;FMTTYPE=image/jpeg:https://southforkchamber.com/wp-content/uploads/309282257_5906379399373277_1976281389897040926_n.jpg
END:VEVENT
BEGIN:VEVENT
DTSTART;TZID=America/Denver:20260526T180000
DTEND;TZID=America/Denver:20260526T200000
DTSTAMP:20260424T122107
CREATED:20230512T002635Z
LAST-MODIFIED:20230512T002635Z
UID:10001473-1779818400-1779825600@southforkchamber.com
SUMMARY:Town of South Fork Board of Trustee Meeting
DESCRIPTION:Tuesday\, May 23 from 6 – 8pm\, at the South Fork Community Building.
URL:https://southforkchamber.com/event/town-of-south-fork-board-of-trustee-meeting/2026-05-26/
CATEGORIES:South Fork Events, General
ATTACH;FMTTYPE=image/jpeg:https://southforkchamber.com/wp-content/uploads/309282257_5906379399373277_1976281389897040926_n.jpg
END:VEVENT
BEGIN:VEVENT
DTSTART;TZID=America/Denver:20260623T180000
DTEND;TZID=America/Denver:20260623T200000
DTSTAMP:20260424T122107
CREATED:20230512T002635Z
LAST-MODIFIED:20230512T002635Z
UID:10001474-1782237600-1782244800@southforkchamber.com
SUMMARY:Town of South Fork Board of Trustee Meeting
DESCRIPTION:Tuesday\, May 23 from 6 – 8pm\, at the South Fork Community Building.
URL:https://southforkchamber.com/event/town-of-south-fork-board-of-trustee-meeting/2026-06-23/
CATEGORIES:South Fork Events, General
ATTACH;FMTTYPE=image/jpeg:https://southforkchamber.com/wp-content/uploads/309282257_5906379399373277_1976281389897040926_n.jpg
END:VEVENT
BEGIN:VEVENT
DTSTART;TZID=America/Denver:20260728T180000
DTEND;TZID=America/Denver:20260728T200000
DTSTAMP:20260424T122107
CREATED:20230512T002635Z
LAST-MODIFIED:20230512T002635Z
UID:10001475-1785261600-1785268800@southforkchamber.com
SUMMARY:Town of South Fork Board of Trustee Meeting
DESCRIPTION:Tuesday\, May 23 from 6 – 8pm\, at the South Fork Community Building.
URL:https://southforkchamber.com/event/town-of-south-fork-board-of-trustee-meeting/2026-07-28/
CATEGORIES:South Fork Events, General
ATTACH;FMTTYPE=image/jpeg:https://southforkchamber.com/wp-content/uploads/309282257_5906379399373277_1976281389897040926_n.jpg
END:VEVENT
BEGIN:VEVENT
DTSTART;TZID=America/Denver:20260825T180000
DTEND;TZID=America/Denver:20260825T200000
DTSTAMP:20260424T122107
CREATED:20230512T002635Z
LAST-MODIFIED:20230512T002635Z
UID:10001476-1787680800-1787688000@southforkchamber.com
SUMMARY:Town of South Fork Board of Trustee Meeting
DESCRIPTION:Tuesday\, May 23 from 6 – 8pm\, at the South Fork Community Building.
URL:https://southforkchamber.com/event/town-of-south-fork-board-of-trustee-meeting/2026-08-25/
CATEGORIES:South Fork Events, General
ATTACH;FMTTYPE=image/jpeg:https://southforkchamber.com/wp-content/uploads/309282257_5906379399373277_1976281389897040926_n.jpg
END:VEVENT
BEGIN:VEVENT
DTSTART;TZID=America/Denver:20260922T180000
DTEND;TZID=America/Denver:20260922T200000
DTSTAMP:20260424T122107
CREATED:20230512T002635Z
LAST-MODIFIED:20230512T002635Z
UID:10001477-1790100000-1790107200@southforkchamber.com
SUMMARY:Town of South Fork Board of Trustee Meeting
DESCRIPTION:Tuesday\, May 23 from 6 – 8pm\, at the South Fork Community Building.
URL:https://southforkchamber.com/event/town-of-south-fork-board-of-trustee-meeting/2026-09-22/
CATEGORIES:South Fork Events, General
ATTACH;FMTTYPE=image/jpeg:https://southforkchamber.com/wp-content/uploads/309282257_5906379399373277_1976281389897040926_n.jpg
END:VEVENT
BEGIN:VEVENT
DTSTART;TZID=America/Denver:20261027T180000
DTEND;TZID=America/Denver:20261027T200000
DTSTAMP:20260424T122107
CREATED:20230512T002635Z
LAST-MODIFIED:20230512T002635Z
UID:10001478-1793124000-1793131200@southforkchamber.com
SUMMARY:Town of South Fork Board of Trustee Meeting
DESCRIPTION:Tuesday\, May 23 from 6 – 8pm\, at the South Fork Community Building.
URL:https://southforkchamber.com/event/town-of-south-fork-board-of-trustee-meeting/2026-10-27/
CATEGORIES:South Fork Events, General
ATTACH;FMTTYPE=image/jpeg:https://southforkchamber.com/wp-content/uploads/309282257_5906379399373277_1976281389897040926_n.jpg
END:VEVENT
BEGIN:VEVENT
DTSTART;TZID=America/Denver:20261124T180000
DTEND;TZID=America/Denver:20261124T200000
DTSTAMP:20260424T122107
CREATED:20230512T002635Z
LAST-MODIFIED:20230512T002635Z
UID:10001479-1795543200-1795550400@southforkchamber.com
SUMMARY:Town of South Fork Board of Trustee Meeting
DESCRIPTION:Tuesday\, May 23 from 6 – 8pm\, at the South Fork Community Building.
URL:https://southforkchamber.com/event/town-of-south-fork-board-of-trustee-meeting/2026-11-24/
CATEGORIES:South Fork Events, General
ATTACH;FMTTYPE=image/jpeg:https://southforkchamber.com/wp-content/uploads/309282257_5906379399373277_1976281389897040926_n.jpg
END:VEVENT
BEGIN:VEVENT
DTSTART;TZID=America/Denver:20261222T180000
DTEND;TZID=America/Denver:20261222T200000
DTSTAMP:20260424T122107
CREATED:20230512T002635Z
LAST-MODIFIED:20230512T002635Z
UID:10001480-1797962400-1797969600@southforkchamber.com
SUMMARY:Town of South Fork Board of Trustee Meeting
DESCRIPTION:Tuesday\, May 23 from 6 – 8pm\, at the South Fork Community Building.
URL:https://southforkchamber.com/event/town-of-south-fork-board-of-trustee-meeting/2026-12-22/
CATEGORIES:South Fork Events, General
ATTACH;FMTTYPE=image/jpeg:https://southforkchamber.com/wp-content/uploads/309282257_5906379399373277_1976281389897040926_n.jpg
END:VEVENT
BEGIN:VEVENT
DTSTART;TZID=America/Denver:20270126T180000
DTEND;TZID=America/Denver:20270126T200000
DTSTAMP:20260424T122107
CREATED:20230512T002635Z
LAST-MODIFIED:20230512T002635Z
UID:10001481-1800986400-1800993600@southforkchamber.com
SUMMARY:Town of South Fork Board of Trustee Meeting
DESCRIPTION:Tuesday\, May 23 from 6 – 8pm\, at the South Fork Community Building.
URL:https://southforkchamber.com/event/town-of-south-fork-board-of-trustee-meeting/2027-01-26/
CATEGORIES:South Fork Events, General
ATTACH;FMTTYPE=image/jpeg:https://southforkchamber.com/wp-content/uploads/309282257_5906379399373277_1976281389897040926_n.jpg
END:VEVENT
BEGIN:VEVENT
DTSTART;TZID=America/Denver:20270223T180000
DTEND;TZID=America/Denver:20270223T200000
DTSTAMP:20260424T122107
CREATED:20230512T002635Z
LAST-MODIFIED:20230512T002635Z
UID:10001482-1803405600-1803412800@southforkchamber.com
SUMMARY:Town of South Fork Board of Trustee Meeting
DESCRIPTION:Tuesday\, May 23 from 6 – 8pm\, at the South Fork Community Building.
URL:https://southforkchamber.com/event/town-of-south-fork-board-of-trustee-meeting/2027-02-23/
CATEGORIES:South Fork Events, General
ATTACH;FMTTYPE=image/jpeg:https://southforkchamber.com/wp-content/uploads/309282257_5906379399373277_1976281389897040926_n.jpg
END:VEVENT
BEGIN:VEVENT
DTSTART;TZID=America/Denver:20270323T180000
DTEND;TZID=America/Denver:20270323T200000
DTSTAMP:20260424T122107
CREATED:20230512T002635Z
LAST-MODIFIED:20230512T002635Z
UID:10001483-1805824800-1805832000@southforkchamber.com
SUMMARY:Town of South Fork Board of Trustee Meeting
DESCRIPTION:Tuesday\, May 23 from 6 – 8pm\, at the South Fork Community Building.
URL:https://southforkchamber.com/event/town-of-south-fork-board-of-trustee-meeting/2027-03-23/
CATEGORIES:South Fork Events, General
ATTACH;FMTTYPE=image/jpeg:https://southforkchamber.com/wp-content/uploads/309282257_5906379399373277_1976281389897040926_n.jpg
END:VEVENT
BEGIN:VEVENT
DTSTART;TZID=America/Denver:20270427T180000
DTEND;TZID=America/Denver:20270427T200000
DTSTAMP:20260424T122107
CREATED:20230512T002635Z
LAST-MODIFIED:20230512T002635Z
UID:10001484-1808848800-1808856000@southforkchamber.com
SUMMARY:Town of South Fork Board of Trustee Meeting
DESCRIPTION:Tuesday\, May 23 from 6 – 8pm\, at the South Fork Community Building.
URL:https://southforkchamber.com/event/town-of-south-fork-board-of-trustee-meeting/2027-04-27/
CATEGORIES:South Fork Events, General
ATTACH;FMTTYPE=image/jpeg:https://southforkchamber.com/wp-content/uploads/309282257_5906379399373277_1976281389897040926_n.jpg
END:VEVENT
BEGIN:VEVENT
DTSTART;TZID=America/Denver:20270525T180000
DTEND;TZID=America/Denver:20270525T200000
DTSTAMP:20260424T122107
CREATED:20230512T002635Z
LAST-MODIFIED:20230512T002635Z
UID:10001485-1811268000-1811275200@southforkchamber.com
SUMMARY:Town of South Fork Board of Trustee Meeting
DESCRIPTION:Tuesday\, May 23 from 6 – 8pm\, at the South Fork Community Building.
URL:https://southforkchamber.com/event/town-of-south-fork-board-of-trustee-meeting/2027-05-25/
CATEGORIES:South Fork Events, General
ATTACH;FMTTYPE=image/jpeg:https://southforkchamber.com/wp-content/uploads/309282257_5906379399373277_1976281389897040926_n.jpg
END:VEVENT
BEGIN:VEVENT
DTSTART;TZID=America/Denver:20270622T180000
DTEND;TZID=America/Denver:20270622T200000
DTSTAMP:20260424T122107
CREATED:20230512T002635Z
LAST-MODIFIED:20230512T002635Z
UID:10001486-1813687200-1813694400@southforkchamber.com
SUMMARY:Town of South Fork Board of Trustee Meeting
DESCRIPTION:Tuesday\, May 23 from 6 – 8pm\, at the South Fork Community Building.
URL:https://southforkchamber.com/event/town-of-south-fork-board-of-trustee-meeting/2027-06-22/
CATEGORIES:South Fork Events, General
ATTACH;FMTTYPE=image/jpeg:https://southforkchamber.com/wp-content/uploads/309282257_5906379399373277_1976281389897040926_n.jpg
END:VEVENT
BEGIN:VEVENT
DTSTART;TZID=America/Denver:20270727T180000
DTEND;TZID=America/Denver:20270727T200000
DTSTAMP:20260424T122107
CREATED:20230512T002635Z
LAST-MODIFIED:20230512T002635Z
UID:10001487-1816711200-1816718400@southforkchamber.com
SUMMARY:Town of South Fork Board of Trustee Meeting
DESCRIPTION:Tuesday\, May 23 from 6 – 8pm\, at the South Fork Community Building.
URL:https://southforkchamber.com/event/town-of-south-fork-board-of-trustee-meeting/2027-07-27/
CATEGORIES:South Fork Events, General
ATTACH;FMTTYPE=image/jpeg:https://southforkchamber.com/wp-content/uploads/309282257_5906379399373277_1976281389897040926_n.jpg
END:VEVENT
BEGIN:VEVENT
DTSTART;TZID=America/Denver:20270824T180000
DTEND;TZID=America/Denver:20270824T200000
DTSTAMP:20260424T122107
CREATED:20230512T002635Z
LAST-MODIFIED:20230512T002635Z
UID:10001488-1819130400-1819137600@southforkchamber.com
SUMMARY:Town of South Fork Board of Trustee Meeting
DESCRIPTION:Tuesday\, May 23 from 6 – 8pm\, at the South Fork Community Building.
URL:https://southforkchamber.com/event/town-of-south-fork-board-of-trustee-meeting/2027-08-24/
CATEGORIES:South Fork Events, General
ATTACH;FMTTYPE=image/jpeg:https://southforkchamber.com/wp-content/uploads/309282257_5906379399373277_1976281389897040926_n.jpg
END:VEVENT
BEGIN:VEVENT
DTSTART;TZID=America/Denver:20270928T180000
DTEND;TZID=America/Denver:20270928T200000
DTSTAMP:20260424T122107
CREATED:20230512T002635Z
LAST-MODIFIED:20230512T002635Z
UID:10001489-1822154400-1822161600@southforkchamber.com
SUMMARY:Town of South Fork Board of Trustee Meeting
DESCRIPTION:Tuesday\, May 23 from 6 – 8pm\, at the South Fork Community Building.
URL:https://southforkchamber.com/event/town-of-south-fork-board-of-trustee-meeting/2027-09-28/
CATEGORIES:South Fork Events, General
ATTACH;FMTTYPE=image/jpeg:https://southforkchamber.com/wp-content/uploads/309282257_5906379399373277_1976281389897040926_n.jpg
END:VEVENT
BEGIN:VEVENT
DTSTART;TZID=America/Denver:20271026T180000
DTEND;TZID=America/Denver:20271026T200000
DTSTAMP:20260424T122107
CREATED:20230512T002635Z
LAST-MODIFIED:20230512T002635Z
UID:10001490-1824573600-1824580800@southforkchamber.com
SUMMARY:Town of South Fork Board of Trustee Meeting
DESCRIPTION:Tuesday\, May 23 from 6 – 8pm\, at the South Fork Community Building.
URL:https://southforkchamber.com/event/town-of-south-fork-board-of-trustee-meeting/2027-10-26/
CATEGORIES:South Fork Events, General
ATTACH;FMTTYPE=image/jpeg:https://southforkchamber.com/wp-content/uploads/309282257_5906379399373277_1976281389897040926_n.jpg
END:VEVENT
BEGIN:VEVENT
DTSTART;TZID=America/Denver:20271123T180000
DTEND;TZID=America/Denver:20271123T200000
DTSTAMP:20260424T122107
CREATED:20230512T002635Z
LAST-MODIFIED:20230512T002635Z
UID:10001491-1826992800-1827000000@southforkchamber.com
SUMMARY:Town of South Fork Board of Trustee Meeting
DESCRIPTION:Tuesday\, May 23 from 6 – 8pm\, at the South Fork Community Building.
URL:https://southforkchamber.com/event/town-of-south-fork-board-of-trustee-meeting/2027-11-23/
CATEGORIES:South Fork Events, General
ATTACH;FMTTYPE=image/jpeg:https://southforkchamber.com/wp-content/uploads/309282257_5906379399373277_1976281389897040926_n.jpg
END:VEVENT
BEGIN:VEVENT
DTSTART;TZID=America/Denver:20271228T180000
DTEND;TZID=America/Denver:20271228T200000
DTSTAMP:20260424T122107
CREATED:20230512T002635Z
LAST-MODIFIED:20230512T002635Z
UID:10001492-1830016800-1830024000@southforkchamber.com
SUMMARY:Town of South Fork Board of Trustee Meeting
DESCRIPTION:Tuesday\, May 23 from 6 – 8pm\, at the South Fork Community Building.
URL:https://southforkchamber.com/event/town-of-south-fork-board-of-trustee-meeting/2027-12-28/
CATEGORIES:South Fork Events, General
ATTACH;FMTTYPE=image/jpeg:https://southforkchamber.com/wp-content/uploads/309282257_5906379399373277_1976281389897040926_n.jpg
END:VEVENT
BEGIN:VEVENT
DTSTART;TZID=America/Denver:20280125T180000
DTEND;TZID=America/Denver:20280125T200000
DTSTAMP:20260424T122107
CREATED:20230512T002635Z
LAST-MODIFIED:20230512T002635Z
UID:10001493-1832436000-1832443200@southforkchamber.com
SUMMARY:Town of South Fork Board of Trustee Meeting
DESCRIPTION:Tuesday\, May 23 from 6 – 8pm\, at the South Fork Community Building.
URL:https://southforkchamber.com/event/town-of-south-fork-board-of-trustee-meeting/2028-01-25/
CATEGORIES:South Fork Events, General
ATTACH;FMTTYPE=image/jpeg:https://southforkchamber.com/wp-content/uploads/309282257_5906379399373277_1976281389897040926_n.jpg
END:VEVENT
BEGIN:VEVENT
DTSTART;TZID=America/Denver:20280222T180000
DTEND;TZID=America/Denver:20280222T200000
DTSTAMP:20260424T122107
CREATED:20230512T002635Z
LAST-MODIFIED:20230512T002635Z
UID:10001494-1834855200-1834862400@southforkchamber.com
SUMMARY:Town of South Fork Board of Trustee Meeting
DESCRIPTION:Tuesday\, May 23 from 6 – 8pm\, at the South Fork Community Building.
URL:https://southforkchamber.com/event/town-of-south-fork-board-of-trustee-meeting/2028-02-22/
CATEGORIES:South Fork Events, General
ATTACH;FMTTYPE=image/jpeg:https://southforkchamber.com/wp-content/uploads/309282257_5906379399373277_1976281389897040926_n.jpg
END:VEVENT
BEGIN:VEVENT
DTSTART;TZID=America/Denver:20280328T180000
DTEND;TZID=America/Denver:20280328T200000
DTSTAMP:20260424T122107
CREATED:20230512T002635Z
LAST-MODIFIED:20230512T002635Z
UID:10001495-1837879200-1837886400@southforkchamber.com
SUMMARY:Town of South Fork Board of Trustee Meeting
DESCRIPTION:Tuesday\, May 23 from 6 – 8pm\, at the South Fork Community Building.
URL:https://southforkchamber.com/event/town-of-south-fork-board-of-trustee-meeting/2028-03-28/
CATEGORIES:South Fork Events, General
ATTACH;FMTTYPE=image/jpeg:https://southforkchamber.com/wp-content/uploads/309282257_5906379399373277_1976281389897040926_n.jpg
END:VEVENT
BEGIN:VEVENT
DTSTART;TZID=America/Denver:20280425T180000
DTEND;TZID=America/Denver:20280425T200000
DTSTAMP:20260424T122107
CREATED:20230512T002635Z
LAST-MODIFIED:20230512T002635Z
UID:10001496-1840298400-1840305600@southforkchamber.com
SUMMARY:Town of South Fork Board of Trustee Meeting
DESCRIPTION:Tuesday\, May 23 from 6 – 8pm\, at the South Fork Community Building.
URL:https://southforkchamber.com/event/town-of-south-fork-board-of-trustee-meeting/2028-04-25/
CATEGORIES:South Fork Events, General
ATTACH;FMTTYPE=image/jpeg:https://southforkchamber.com/wp-content/uploads/309282257_5906379399373277_1976281389897040926_n.jpg
END:VEVENT
END:VCALENDAR